BEGIN:VCALENDAR
VERSION:2.0
PRODID:icalendar-ruby
CALSCALE:GREGORIAN
METHOD:PUBLISH
BEGIN:VEVENT
DTSTAMP:20260421T202222Z
UID:5-397697@joynesroad.tithelysetup2.com
DTSTART:20260712T173000Z
DTEND:20260712T183000Z
CLASS:PUBLIC
CREATED:20260416T122352
DESCRIPTION:Sunday Worship
LAST-MODIFIED:20260416T122352
LOCATION:
SUMMARY:Sunday Worship
URL;VALUE=URI:https://joynesroad.tithelysetup2.com/events/sunday-worship/20
 26-07-12
END:VEVENT
END:VCALENDAR
