BEGIN:VCALENDAR
VERSION:2.0
PRODID:icalendar-ruby
CALSCALE:GREGORIAN
METHOD:PUBLISH
BEGIN:VEVENT
DTSTAMP:20260422T054849Z
UID:5-397703@joynesroad.tithelysetup2.com
DTSTART:20260823T173000Z
DTEND:20260823T183000Z
CLASS:PUBLIC
CREATED:20260416T122352
DESCRIPTION:Sunday Worship
LAST-MODIFIED:20260416T122352
LOCATION:
SUMMARY:Sunday Worship
URL;VALUE=URI:https://joynesroad.tithelysetup2.com/events/sunday-worship/20
 26-08-23
END:VEVENT
END:VCALENDAR
